BEGIN:VCALENDAR
VERSION:2.0
PRODID:-//ddaysoftware.com//NONSGML DDay.iCal 1.0//EN
BEGIN:VTIMEZONE
TZID:W. Europe Standard Time
BEGIN:STANDARD
DTSTART:20251002T030000
RRULE:FREQ=YEARLY;BYDAY=-1SU;BYHOUR=3;BYMINUTE=0;BYMONTH=10
TZNAME:Mitteleuropäische Zeit
TZOFFSETFROM:+0200
TZOFFSETTO:+0100
END:STANDARD
BEGIN:DAYLIGHT
DTSTART:20250301T020000
RRULE:FREQ=YEARLY;BYDAY=-1SU;BYHOUR=2;BYMINUTE=0;BYMONTH=3
TZNAME:Mitteleuropäische Sommerzeit
TZOFFSETFROM:+0100
TZOFFSETTO:+0200
END:DAYLIGHT
END:VTIMEZONE
BEGIN:VEVENT
CATEGORIES:Kirche
DESCRIPTION:\n\nVeranstalter: Pfarrei Königsfeld\n\nhttps://www.koenigsfeld
 -oberfranken.de/aktuelles/veranstaltungen/jubelkommunion/
DTEND:20260425T180000
DTSTAMP:20260422T092007Z
DTSTART:20260425T170000
LOCATION:Pfarrkirche:  Königsfeld
SEQUENCE:0
SUMMARY:Jubelkommunion
UID:9523
URL:https://www.koenigsfeld-oberfranken.de/aktuelles/veranstaltungen/jubelk
 ommunion/
END:VEVENT
BEGIN:VEVENT
CATEGORIES:Kirche
DESCRIPTION:\n\nVeranstalter: Pfarrei Königsfeld\n\nhttps://www.koenigsfeld
 -oberfranken.de/aktuelles/veranstaltungen/sternwallfahrt/
DTEND:20260513T200000
DTSTAMP:20260422T092007Z
DTSTART:20260513T190000
LOCATION:Pfarrkirche:  Königsfeld
SEQUENCE:0
SUMMARY:Sternwallfahrt
UID:9529
URL:https://www.koenigsfeld-oberfranken.de/aktuelles/veranstaltungen/sternw
 allfahrt/
END:VEVENT
BEGIN:VEVENT
CATEGORIES:Kirche
DESCRIPTION:\n\nVeranstalter: Pfarrei Königsfeld\n\nhttps://www.koenigsfeld
 -oberfranken.de/aktuelles/veranstaltungen/guegelwallfahrt/
DTEND:20260516T074500
DTSTAMP:20260422T092007Z
DTSTART:20260516T064500
LOCATION:Pfarrkirche:  Königsfeld
SEQUENCE:0
SUMMARY:Gügelwallfahrt
UID:9532
URL:https://www.koenigsfeld-oberfranken.de/aktuelles/veranstaltungen/guegel
 wallfahrt/
END:VEVENT
BEGIN:VEVENT
CATEGORIES:Kirche
DESCRIPTION:\n\nVeranstalter: Pfarrei Königsfeld\n\nhttps://www.koenigsfeld
 -oberfranken.de/aktuelles/veranstaltungen/flurumgang-pfarrfest/
DTEND:20260517T111500
DTSTAMP:20260422T092007Z
DTSTART:20260517T101500
LOCATION:Pfarrkirche:  Königsfeld
SEQUENCE:0
SUMMARY:Flurumgang / Pfarrfest
UID:9533
URL:https://www.koenigsfeld-oberfranken.de/aktuelles/veranstaltungen/flurum
 gang-pfarrfest/
END:VEVENT
BEGIN:VEVENT
CATEGORIES:Kirche
DESCRIPTION:\n\nVeranstalter: Pfarrei Königsfeld\n\nhttps://www.koenigsfeld
 -oberfranken.de/aktuelles/veranstaltungen/firmung/
DTEND:20260711T110000
DTSTAMP:20260422T092007Z
DTSTART:20260711T100000
LOCATION:Pfarrkirche:  Königsfeld
SEQUENCE:0
SUMMARY:Firmung
UID:9559
URL:https://www.koenigsfeld-oberfranken.de/aktuelles/veranstaltungen/firmun
 g/
END:VEVENT
END:VCALENDAR
